BEGIN:VCALENDAR
VERSION:2.0
PRODID:-//ILETA (R) - ECPv6.15.20//NONSGML v1.0//EN
CALSCALE:GREGORIAN
METHOD:PUBLISH
X-ORIGINAL-URL:https://ileta.org
X-WR-CALDESC:Events for ILETA (R)
REFRESH-INTERVAL;VALUE=DURATION:PT1H
X-Robots-Tag:noindex
X-PUBLISHED-TTL:PT1H
BEGIN:VTIMEZONE
TZID:Europe/Paris
BEGIN:DAYLIGHT
TZOFFSETFROM:+0100
TZOFFSETTO:+0200
TZNAME:CEST
DTSTART:20240331T010000
END:DAYLIGHT
BEGIN:STANDARD
TZOFFSETFROM:+0200
TZOFFSETTO:+0100
TZNAME:CET
DTSTART:20241027T010000
END:STANDARD
BEGIN:DAYLIGHT
TZOFFSETFROM:+0100
TZOFFSETTO:+0200
TZNAME:CEST
DTSTART:20250330T010000
END:DAYLIGHT
BEGIN:STANDARD
TZOFFSETFROM:+0200
TZOFFSETTO:+0100
TZNAME:CET
DTSTART:20251026T010000
END:STANDARD
BEGIN:DAYLIGHT
TZOFFSETFROM:+0100
TZOFFSETTO:+0200
TZNAME:CEST
DTSTART:20260329T010000
END:DAYLIGHT
BEGIN:STANDARD
TZOFFSETFROM:+0200
TZOFFSETTO:+0100
TZNAME:CET
DTSTART:20261025T010000
END:STANDARD
END:VTIMEZONE
BEGIN:VEVENT
DTSTART;TZID=Europe/Paris:20251210T000000
DTEND;TZID=Europe/Paris:20251210T235900
DTSTAMP:20260424T013708
CREATED:20251105T174026Z
LAST-MODIFIED:20251108T161511Z
UID:2887-1765324800-1765411140@ileta.org
SUMMARY:Call for Papers: ILETA ONLINE Winter School: Deadline 10 December 2025
DESCRIPTION:THE ILETA CALL FOR PAPERS FOR WINTER SCHOOL \nTHE ILETA CALL FOR PAPERS is now open for the ILETA ONLINE Winter School. The 2026 theme is  \nLegal English & AI \nTeaching and Assessing Legal English Skills for Future Lawyers\, Interpreters and Translators \nWhile AI will be our main focus\, we also welcome contributions on other emerging and relevant topics in our field. If you would like to share your expertise or ideas\, we warmly invite you to submit a proposal. Use this link: ILETA Winter School Proposal Form 2026 or the QR Code below. \nLast day for submitting proposals is 10 December 2025.
URL:https://ileta.org/event/call-for-papers-ileta-online-winter-school-open-now-closes-on-10-december-2025/
LOCATION:ONLINE WINTER SCHOOL
CATEGORIES:Winter School
END:VEVENT
END:VCALENDAR