BEGIN:VCALENDAR
VERSION:2.0
PRODID:-//ILETA (R) - ECPv6.15.20//NONSGML v1.0//EN
CALSCALE:GREGORIAN
METHOD:PUBLISH
X-WR-CALNAME:ILETA (R)
X-ORIGINAL-URL:https://ileta.org
X-WR-CALDESC:Events for ILETA (R)
REFRESH-INTERVAL;VALUE=DURATION:PT1H
X-Robots-Tag:noindex
X-PUBLISHED-TTL:PT1H
BEGIN:VTIMEZONE
TZID:Europe/Paris
BEGIN:DAYLIGHT
TZOFFSETFROM:+0100
TZOFFSETTO:+0200
TZNAME:CEST
DTSTART:20240331T010000
END:DAYLIGHT
BEGIN:STANDARD
TZOFFSETFROM:+0200
TZOFFSETTO:+0100
TZNAME:CET
DTSTART:20241027T010000
END:STANDARD
BEGIN:DAYLIGHT
TZOFFSETFROM:+0100
TZOFFSETTO:+0200
TZNAME:CEST
DTSTART:20250330T010000
END:DAYLIGHT
BEGIN:STANDARD
TZOFFSETFROM:+0200
TZOFFSETTO:+0100
TZNAME:CET
DTSTART:20251026T010000
END:STANDARD
BEGIN:DAYLIGHT
TZOFFSETFROM:+0100
TZOFFSETTO:+0200
TZNAME:CEST
DTSTART:20260329T010000
END:DAYLIGHT
BEGIN:STANDARD
TZOFFSETFROM:+0200
TZOFFSETTO:+0100
TZNAME:CET
DTSTART:20261025T010000
END:STANDARD
BEGIN:DAYLIGHT
TZOFFSETFROM:+0100
TZOFFSETTO:+0200
TZNAME:CEST
DTSTART:20270328T010000
END:DAYLIGHT
BEGIN:STANDARD
TZOFFSETFROM:+0200
TZOFFSETTO:+0100
TZNAME:CET
DTSTART:20271031T010000
END:STANDARD
END:VTIMEZONE
BEGIN:VEVENT
DTSTART;TZID=Europe/Paris:20260420T133000
DTEND;TZID=Europe/Paris:20260420T143000
DTSTAMP:20260423T192811
CREATED:20251106T142510Z
LAST-MODIFIED:20251107T215854Z
UID:3076-1776691800-1776695400@ileta.org
SUMMARY:ILETA Monthly Trainers' MeetUp - 20 April 2026
DESCRIPTION:ILETA Monthly Trainers’ MeetUP \n\n\n\n20 April 2026 \n\n\n\nILETA Monthly Trainers’ MeetUPs are an excellent opportunity for ILETA members (Basic and Bronze Members) to share\, reflect upon and exchange teaching experiences\, ideas and provide invaluable feedback on specialised Legal English topics.  Each MeetUP focuses on a specialised topic of interest and is led by ILETA members.  \n\n\n\nAll meetings are eligible for CPD.  \n\n\n\nWhen you register for the event you will receive a confirmation message. Please check your spam folders. If you do not receive this\, please contact us.  \n\n\n\nOn the scheduled day\, you will receive a Zoom link.  \n\n\n\nAny questions? Please email: info@ileta.org. \n\n\n\n 
URL:https://ileta.org/event/ileta-monthly-trainers-meetup-april-2026/
LOCATION:Online
CATEGORIES:MeetUp
END:VEVENT
BEGIN:VEVENT
DTSTART;TZID=Europe/Paris:20260330T133000
DTEND;TZID=Europe/Paris:20260330T143000
DTSTAMP:20260423T192811
CREATED:20251106T141931Z
LAST-MODIFIED:20260310T145453Z
UID:3071-1774877400-1774881000@ileta.org
SUMMARY:ILETA Monthly MeetUps- 23 March 2026
DESCRIPTION:ILETA Monthly Trainers’ MeetUP \n30 March 2026 \nRethinking Critical Thinking – ILETA Monthly Meetup 30 March 2026 \nCritical thinking is one of the skills we most often say we want our students to develop. But what do we really mean by critical thinking? \nIn legal and professional contexts\, critical thinking is often misunderstood as simply criticizing an argument or finding weaknesses in someone else’s position. In reality\, it is much more than that. \nCritical thinking involves asking better questions:• What assumptions are being made?• What evidence supports this claim?• What perspectives might be missing?• What would change my mind? \nFor Legal English practitioners\, this matters. When we design activities around cases\, contracts\, negotiations\, or legal problems\, we are not just teaching language—we are helping learners practice how lawyers actually think. \nIn this month’s ILETA Monthly Trainers’ Meetup\, we will explore how we can move beyond surface-level discussion and design tasks that genuinely develop critical thinking in Legal English classrooms. \nThis meeting will be led by Agnieska A Chojecka who makes this proposal: \n“Let’s think about critical thinking more critically.How is it integrated into Legal English classes\, and what purpose does it really serve?Do we sometimes take it for granted because of the legal content we work with? \nI’d like to start a discussion on how we can exploit it even better and treat it as a framework that strengthens our students’ memory and learning.“ \nJoin us for a practical and collaborative conversation with colleagues from around the world. \nDetails of the ILETA Monthly Trainers’  March MeetUP are: \nDate:  30 March 2026 \nTime:  13.30 pm to 14.30 pm (CEST) \nWhere: Zoom meeting  \nCost: Free for Bronze & Basic Members \nRegistration link:  Registration-ILETA March 2026 MeetUP  \nBiography – Agnieszka A. Chojecka (Ms) \nAgnieszka is an independent English tutor with over 24 years of experience designing courses for legal\, financial\, and business English learners. Her lifelong passion for creating her own study materials resulted in the launch of a unique website for legal English enthusiasts – www.legalenglishboost.com. \nShe studied English Philology at the University of Adam Mickiewicz in Poznań\, Poland. Since 2004\, she has worked exclusively with legal and financial professionals\, designing individual and group courses for well-established Polish law firms and the legal departments of international companies in Poland. \nOutside of work\, she reads voraciously about recent developments in psychology\, neurolinguistics and memorisation techniques. She actively explores the Socratic method of teaching in the classroom.  \nAgnieszka is also the ILETA Country Ambassador for Poland and a member of the ILETA Scientific Committee.  \nILETA Monthly Trainers’ MeetUPs are an excellent opportunity for ILETA members (Basic and Bronze Members) to share\, reflect upon and exchange teaching experiences\, ideas and provide invaluable feedback on specialised Legal English topics.  Each MeetUP focuses on a specialised topic of interest and is led by ILETA members.  \nAll meetings are eligible for CPD.  \nWhen you register for the event you will receive a confirmation message. Please check your spam folders. If you do not receive this\, please contact us.  \nOn the scheduled day\, you will receive a Zoom link.  \nAny questions? Please email: info@ileta.org.
URL:https://ileta.org/event/ileta-monthly-meetups-march-2026/
LOCATION:Online
CATEGORIES:MeetUp
ATTACH;FMTTYPE=image/png:https://ileta.org/wp-content/uploads/2026/03/Verde-Immagine-Incorniciata-Incontro-Live-Statico-Post-di-LinkedIn-Facebook-Post-3.png
END:VEVENT
BEGIN:VEVENT
DTSTART;TZID=Europe/Paris:20260223T133000
DTEND;TZID=Europe/Paris:20260223T143000
DTSTAMP:20260423T192811
CREATED:20251106T141637Z
LAST-MODIFIED:20260203T193621Z
UID:3067-1771853400-1771857000@ileta.org
SUMMARY:ILETA Monthly MeetUPs - 23 February 2026
DESCRIPTION:ILETA Monthly Trainers’ MeetUP \n23 February 2026 \n‘Discussion topic is Using Emotional Intelligence to engage non-communicative students’ \n  \n \nILETA is excited to announce that in our next ILETA Monthly Trainers’ MeetUP we will be discussing the topic ‘Using Emotional Intelligence to Engage Non-Communicative Students’ \n  \nInformation about the MeetUP \n  \nAs we all know\, in many of our classrooms\, the biggest challenge isn’t student ability — it’s silence.We all encounter students who avoid participation\, give minimal responses\, or seem emotionally “checked out.” \n  \nTraditional engagement strategies (cold calling students\, more direct questions\, extra tasks) don’t always work — and can sometimes make students withdraw even more. \n  \nIn our upcoming ILETA MeetUP\, we’ll explore how emotional intelligence (EI) can become a practical teaching tool for reaching these learners. \n  \nWhen: Monday – 23 February \n  \nTime:  \n  \nWhere: Zoom – Online \n  \nCosts: Participation for Basic and Bronze Members is free \n  \nRegistration: ILETA Monthly MEETUP-February 2026 – Registration \n  \nWould you like to attend? Join ILETA today. \n  \nWe have different membership options to suit your needs – visit our website or email us at info (at) ileta (dot) org.  \n \nILETA Monthly Trainers’ MeetUPs are an excellent opportunity for ILETA members (Basic and Bronze Members) to share\, reflect upon and exchange teaching experiences\, ideas and provide invaluable feedback on specialised Legal English topics.  Each MeetUP focuses on a specialised topic of interest and is led by ILETA members.  \nAll meetings are eligible for CPD.  \nWhen you register for the event you will receive a confirmation message. Please check your spam folders. If you do not receive this\, please contact us.  \nOn the scheduled day\, you will receive a Zoom link.  \nAny questions? Please email: info@ileta.org.
URL:https://ileta.org/event/ileta-monthly-meetups-february-2026/
LOCATION:Online
CATEGORIES:MeetUp
END:VEVENT
BEGIN:VEVENT
DTSTART;TZID=Europe/Paris:20260119T133000
DTEND;TZID=Europe/Paris:20260119T143000
DTSTAMP:20260423T192811
CREATED:20251106T140852Z
LAST-MODIFIED:20251107T220617Z
UID:3063-1768829400-1768833000@ileta.org
SUMMARY:ILETA Monthly Trainers' MeetUp- 19 January 2026
DESCRIPTION:ILETA Monthly Trainers’ MeetUP \n19 January 2026 \nILETA Monthly Trainers’ MeetUPs are an excellent opportunity for ILETA members (Basic and Bronze Members) to share\, reflect upon and exchange teaching experiences\, ideas and provide invaluable feedback on specialised Legal English topics.  Each MeetUP focuses on a specialised topic of interest and is led by ILETA members.  \nAll meetings are eligible for CPD.  \nWhen you register for the event you will receive a confirmation message. Please check your spam folders. If you do not receive this\, please contact us.  \nOn the scheduled day\, you will receive a Zoom link.  \nAny questions? Please email: info@ileta.org. \n 
URL:https://ileta.org/event/ileta-monthly-trainers-meetup-19-january-2026/
LOCATION:Online
CATEGORIES:MeetUp
END:VEVENT
BEGIN:VEVENT
DTSTART;TZID=Europe/Paris:20251215T133000
DTEND;TZID=Europe/Paris:20251215T143000
DTSTAMP:20260423T192811
CREATED:20251106T140619Z
LAST-MODIFIED:20251124T201745Z
UID:3059-1765805400-1765809000@ileta.org
SUMMARY:ILETA MonthlyTrainers' MeetUP- 15 December 2025 - Xmas Party
DESCRIPTION:ILETA Monthly Trainers’ MeetUP 15 December 2025 \n\n\n\nHere we are\, our last ILETA Trainers’ MeetUP for 2025 ! To gear  up for the upcoming ILETA Winter School on 28 February 2026 – 1 March 2026\, our next ILETA Trainer’s MeetUP discussion will focus on the dynamic warm up topic of Blending AI into Legal English with festive drinks! \n\n\n\n  \n\n\n\nTogether\, we will be discussing: \n\n\n\n\nAI Tools available \n\n\n\nWhat AI instruments you are currently using \n\n\n\nChallenges using AI with your students \n\n\n\n\nAnd of course\,  a little Xmas/end of year/we made it virtual drinks to get the thoughts flowing and conversation going.   \n\n\n\nDetails of the ILETA Trainers MeetUP; hosted by Sofia Parastatidou are:  \n\n\n\n\nTopic: Blending AI into Legal English- A Winter School warm up\n\n\n\nDate:   15 December 2025\n\n\n\nTime: 13:30 (CET- Rome) – 14.30pm (CET -Rome)\n\n\n\nONLINE Zoom links will be sent out on 15 December 2025 (check your spam boxes in case)\n\n\n\nFee: Free for all Basic & Bronze Members\n\n\n\n\nTo sign up for the ILETA Trainers’ MeetUP use this form ILETA Trainers MeetUP- Dec 2025. \n\n\n\nILETA Monthly Trainers’ MeetUPs are an excellent opportunity for ILETA members (Basic and Bronze Members) to share\, reflect upon and exchange teaching experiences\, ideas and provide invaluable feedback on specialised Legal English topics.  Each MeetUP focuses on a specialised topic of interest and is led by ILETA members.  \n\n\n\nAll meetings are eligible for CPD.  \n\n\n\nWhen you register for the event you will receive a confirmation message. Please check your spam folders. If you do not receive this\, please contact us.  \n\n\n\nOn the scheduled day\, you will receive a Zoom link.  \n\n\n\nAny questions? Please email: info@ileta.org.
URL:https://ileta.org/event/ileta-monthly-trainers-meetup-15-december-2025-xmas-party/
LOCATION:Online
CATEGORIES:MeetUp
END:VEVENT
BEGIN:VEVENT
DTSTART;TZID=Europe/Paris:20251117T133000
DTEND;TZID=Europe/Paris:20251117T143000
DTSTAMP:20260423T192811
CREATED:20251106T130117Z
LAST-MODIFIED:20251110T105808Z
UID:3031-1763386200-1763389800@ileta.org
SUMMARY:ILETA Trainers MeetUP-17 November 2025
DESCRIPTION:ILETA MONTHLY TRAINERS’ MEETUP  \n\n\n\n17 November 2025 \n\n\n\nILETA monthly MeetUP will take place on 17 November 2025. \n\n\n\nTeaching\, interpreting and translating Legal English is one thing. Reaching the clients\, lawyers\, students\, and professionals who actually need your expertise is another. Intoday’s crowded online space\, algorithms\, keywords\, and platforms decide whether your services get noticed—or get lost. \n\n\n\nIn the ILETA OCTOBER MONTHLY TRAINERS’ MEETUP\, we will discuss how to:– Identify your ideal Legal English audience (and where to find them)– How algorithms work and how to beat them; – The importance of balancing tech-driven targeting with authentic human connection– How building a marketing approach that actually converts – works \n\n\n\nDate: 17 November 2025NEW Time: 13:30pm – 14:30pm (Rome Time)Format: Online (ZOOM)Cost: FREE Bronze/Basic Members and Non MembersHost: Sofia Parastatidou\, President of ILETA\, Special CounselRegistration Link: ILETA Monthly MeetUP Registration Link  \n\n\n\nWhether you’re an experienced or just starting out as a Legal English trainer\, Court interpreter\, Translator\, this session will give you an insight into strategies to make your services visible. Don’t let algorithms decide your success. Learn how to work with them (and beyond them).AT ILETA-WE WELCOME YOU \n\n\n\nILETA Monthly Trainers’ MeetUPs are an excellent opportunity for ILETA members (Basic and Bronze Members) to share\, reflect upon and exchange teaching experiences\, ideas and provide invaluable feedback on specialised Legal English topics.  Each MeetUP focuses on a specialised topic of interest and is led by ILETA members.  \n\n\n\nAll meetings are eligible for CPD.  \n\n\n\nWhen you register for the event you will receive a confirmation message. Please check your spam folders. If you do not receive this\, please contact us.  \n\n\n\nOn the scheduled day\, you will receive a Zoom link.  \n\n\n\nAny questions? Please email: info@ileta.org. \n\n\n\n  \n\n\n\n  \n\n\n\n  \n\n\n\n 
URL:https://ileta.org/event/ileta-trainers-meetup-17-november-2025/
LOCATION:Online
CATEGORIES:MeetUp
END:VEVENT
END:VCALENDAR